BEGIN:VCALENDAR
VERSION:2.0
PRODID:-//urwahl3000//gruene-wessling.de//DE
CALSCALE:GREGORIAN
BEGIN:VEVENT
DTSTART:20200304T190000
DTEND:20200304T190000
LOCATION:Piet'z Restaurant Weßling
DTSTAMP:20200304T190000
SUMMARY:Grünwalds Mittwochstisch
URL;VALUE=URI:https://www.gruene-wessling.de/termin/gruenwalds-mittwochstisch-2/
DESCRIPTION:Jeden Mittwoch steht unser Bürgermeisterkandidat Sabastian Grünwald am Stammtisch zum Kennenlernen, Plaudern und für Diskussionen zur Verfügung.

Wir freuen uns auf Ihren Besuch!
UID:20200304T190000-20200304T190000-20200304T190000
END:VEVENT
END:VCALENDAR