BEGIN:VCALENDAR
VERSION:2.0
PRODID:-//urwahl3000//gruene-wessling.de//DE
CALSCALE:GREGORIAN
BEGIN:VEVENT
DTSTART:20251022T100000
DTEND:20251022T180000
LOCATION:Bahnhofstraße 15 82234 Weßling
DTSTAMP:20251022T100000
SUMMARY:Infostand für Demokratie und Rechtsstaatlichkeit – gegen Hass und Hetze am Wochenmarkt Weßling
URL;VALUE=URI:https://www.gruene-wessling.de/termin/infostand-fuer-demokratie-und-rechtsstaatlichkeit-gegen-hass-und-hetze-am-wochenmarkt-wessling/
DESCRIPTION:Die <strong data-start="154" data-end="172">Grünen Weßling</strong> setzen am <strong data-start="183" data-end="225">22.10.2025 von 10:00 bis ca. 18:00 Uhr</strong> ein Zeichen <strong data-start="238" data-end="304">für Demokratie und Rechtsstaatlichkeit – gegen Hass und Hetze.</strong><br data-start="304" data-end="307" />Mit unserem Infostand am Wochenmarkt möchten wir ins Gespräch kommen, informieren und zeigen, dass Weßling für Offenheit, Respekt und ein faires Miteinander steht.
UID:20251022T100000-20251022T100000-20251022T180000
END:VEVENT
END:VCALENDAR