BEGIN:VCALENDAR
VERSION:2.0
PRODID:-//urwahl3000//gruene-wessling.de//DE
CALSCALE:GREGORIAN
BEGIN:VEVENT
DTSTART:20191114T200000
DTEND:20191114T200000
LOCATION:Gasthof Il Plonner Oberpfaffenhofen
DTSTAMP:20191114T200000
SUMMARY:Kommunalwahl Listenaufstellung
URL;VALUE=URI:https://www.gruene-wessling.de/termin/kommunalwahl-listenaufstellung/
DESCRIPTION:Wir stellen die GRÜNE Kandidatenliste für die Gemeinderatswahl am 15. März auf. Alle Bürger*innen der Gemeinde Weßling sind herzlich willkommen!

<ol>
	<li>Begrüßung durch den Ortsvorstand und den Bürgermeisterkandidaten</li>
	<li>Benennung der Versammlungsleitung und der Protokollführung</li>
	<li>Feststellung der ordnungsgemäßen Ladung und Beschlussfähigkeit</li>
	<li>Erläuterung der Formalia und des Abstimmungsverfahrens</li>
	<li>Nennung der Kandidaten auf dem Wahllistenentwurf</li>
	<li>Vorstellung der Kandidatinnen und Kandidaten</li>
	<li>Bestimmung des Wahlausschusses</li>
	<li>Wahl der Gemeinderatsliste</li>
	<li>Wahl der Nachrücker*innen</li>
	<li>Benennung des/der Beauftragten für den Wahlvorschlag</li>
	<li>Schließung der Versammlung</li>
</ol>

UID:20191114T200000-20191114T200000-20191114T200000
END:VEVENT
END:VCALENDAR