BEGIN:VCALENDAR
VERSION:2.0
PRODID:-//urwahl3000//gruene-wessling.de//DE
CALSCALE:GREGORIAN
BEGIN:VEVENT
DTSTART:20250115T193000
DTEND:20250115T193000
LOCATION:Pfarrstadel\, Am Kreuzberg 3 Weßling
DTSTAMP:20250115T193000
SUMMARY:Vorbereitungstreffen für Wahlveranstaltung
URL;VALUE=URI:https://www.gruene-wessling.de/termin/vorbereitungstreffen-fuer-wahlveranstaltung/
DESCRIPTION:Wir laden alle Interessierten zu unserem letzten Treffen vor der großen <a href="https://www.gruene-wessling.de/2024/12/vorbereitung-auf-gemeinsame-bundestagswahlkampfveranstaltung-im-pfarrstadl-am-03-02-2025/">Wahlveranstaltung am 3. Februar</a> ein. Wir werden den letzten Feinschliff für unsere Podiumsdiskussion machen und alle, die mithelfen wollen, sind herzlich willkommen!

Bitte eine Kleinigkeit zum Trinken, Knabbern sowie einen Becher oder ein Glas mitbringen, da wir Selbstversorger sind.

UID:20250115T193000-20250115T193000-20250115T193000
END:VEVENT
END:VCALENDAR